BEGIN:VCALENDAR
VERSION:2.0
PRODID:-//Greg Godovitz - ECPv6.15.18//NONSGML v1.0//EN
CALSCALE:GREGORIAN
METHOD:PUBLISH
X-ORIGINAL-URL:https://greggodovitz.com
X-WR-CALDESC:Events for Greg Godovitz
REFRESH-INTERVAL;VALUE=DURATION:PT1H
X-Robots-Tag:noindex
X-PUBLISHED-TTL:PT1H
BEGIN:VTIMEZONE
TZID:America/Toronto
BEGIN:DAYLIGHT
TZOFFSETFROM:-0500
TZOFFSETTO:-0400
TZNAME:EDT
DTSTART:20240310T070000
END:DAYLIGHT
BEGIN:STANDARD
TZOFFSETFROM:-0400
TZOFFSETTO:-0500
TZNAME:EST
DTSTART:20241103T060000
END:STANDARD
BEGIN:DAYLIGHT
TZOFFSETFROM:-0500
TZOFFSETTO:-0400
TZNAME:EDT
DTSTART:20250309T070000
END:DAYLIGHT
BEGIN:STANDARD
TZOFFSETFROM:-0400
TZOFFSETTO:-0500
TZNAME:EST
DTSTART:20251102T060000
END:STANDARD
BEGIN:DAYLIGHT
TZOFFSETFROM:-0500
TZOFFSETTO:-0400
TZNAME:EDT
DTSTART:20260308T070000
END:DAYLIGHT
BEGIN:STANDARD
TZOFFSETFROM:-0400
TZOFFSETTO:-0500
TZNAME:EST
DTSTART:20261101T060000
END:STANDARD
END:VTIMEZONE
BEGIN:VEVENT
DTSTART;TZID=America/Toronto:20250530T150000
DTEND;TZID=America/Toronto:20250530T190000
DTSTAMP:20260425T111437
CREATED:20241217T230910Z
LAST-MODIFIED:20241217T230910Z
UID:695-1748617200-1748631600@greggodovitz.com
SUMMARY:GODDO 50th Anniversary Concert – Kingston
DESCRIPTION:It’s official! The “Pretty Bad Boys” of Canadian rock\, GODDO\, are returning to “lighve” action for their 50th Anniversary! \nLed by its legendary founder\, singer/bassist Greg Godovitz\, the all-new GODDO consists of keyboardist Drew Winters\, guitarists Steve Jensen and Steve MacPherson\, and original GODDO drummer Marty Morin. \nThis re-energized rendition of GODDO delivers new life and spirit to their classic hits like “So Walk On”\, “Sweet Thing”\, “Tough Times”\, “Too Much Carousing”\, “O Carole (Kiss My Whip)”\, “Cock On”\, “Under My Hat”\, “Pretty Bad Boy” and much more! \nFREE MEET & GREET in Lobby after the show! \nWine\, Beer\, Whiteclaw\, Pop\, Chips and Water will be sold throughout the show (credit or debit only).  Refreshments are allowed in the Performance Hall. \nBuy Tickets for GODDO 50th ANNIVERSARY Who Cares! | Kingston Grand Theatre \n\nDue to the historical nature of our building\, seats located in the upper balcony have limited legroom.\nThe theatre is accessible; please contact the Box Office at 613.530.2050 for details.\nGroups of 10 or more contact the box office for tickets. \nPlease note a ticket handling fee applies. NO REFUNDS  on any tickets sold.
URL:https://greggodovitz.com/event/goddo-50th-anniversary-concert-kingston/
LOCATION:Kingston Grand Theatre\, 218 Princess St.\, Kingston\, Ontario\, K7L 1B2\, Canada
ATTACH;FMTTYPE=image/webp:https://greggodovitz.com/wp-content/uploads/Goddo-1.webp
END:VEVENT
END:VCALENDAR