BEGIN:VCALENDAR
VERSION:2.0
PRODID:-//Greg Godovitz - ECPv6.15.18//NONSGML v1.0//EN
CALSCALE:GREGORIAN
METHOD:PUBLISH
X-WR-CALNAME:Greg Godovitz
X-ORIGINAL-URL:https://greggodovitz.com
X-WR-CALDESC:Events for Greg Godovitz
REFRESH-INTERVAL;VALUE=DURATION:PT1H
X-Robots-Tag:noindex
X-PUBLISHED-TTL:PT1H
BEGIN:VTIMEZONE
TZID:America/Toronto
BEGIN:DAYLIGHT
TZOFFSETFROM:-0500
TZOFFSETTO:-0400
TZNAME:EDT
DTSTART:20240310T070000
END:DAYLIGHT
BEGIN:STANDARD
TZOFFSETFROM:-0400
TZOFFSETTO:-0500
TZNAME:EST
DTSTART:20241103T060000
END:STANDARD
BEGIN:DAYLIGHT
TZOFFSETFROM:-0500
TZOFFSETTO:-0400
TZNAME:EDT
DTSTART:20250309T070000
END:DAYLIGHT
BEGIN:STANDARD
TZOFFSETFROM:-0400
TZOFFSETTO:-0500
TZNAME:EST
DTSTART:20251102T060000
END:STANDARD
BEGIN:DAYLIGHT
TZOFFSETFROM:-0500
TZOFFSETTO:-0400
TZNAME:EDT
DTSTART:20260308T070000
END:DAYLIGHT
BEGIN:STANDARD
TZOFFSETFROM:-0400
TZOFFSETTO:-0500
TZNAME:EST
DTSTART:20261101T060000
END:STANDARD
END:VTIMEZONE
BEGIN:VEVENT
DTSTART;TZID=America/Toronto:20250626T150000
DTEND;TZID=America/Toronto:20250626T193000
DTSTAMP:20260425T111438
CREATED:20250308T191207Z
LAST-MODIFIED:20250308T191207Z
UID:715-1750950000-1750966200@greggodovitz.com
SUMMARY:GODDO 50th Anniversary Concert – Keswick
DESCRIPTION:Blackrose Entertainment presents\nGODDO 50th Anniversary\nThursday June 26th\, 2025\n7:30pm\nTickets: $65 +hst\nIt’s official! The “Pretty Bad Boys” of Canadian rock\, GODDO\, are returning to “lighve” action for their 50th Anniversary! \nLed by its legendary founder\, singer/bassist GREG GODOVITZ\, the all-new GODDO is now a powerfully dynamic 6-piece consisting of guitarists STEVE JENSEN and STEVE MACPHERSON\, keyboardist DREW WINTERS\, saxophonist GENE HARDY and original GODDO drummer MARTY MORIN. \nThis re-energized rendition of GODDO delivers new life and spirit to their classic hits like “So Walk On”\, “Sweet Thing”\, “Tough Times”\, “Too Much Carousing”\, “O Carole (Kiss My Whip)”\, “Under My Hat”\, “Pretty Bad Boy” and much more! \nFREE MEET & GREET in the lobby after the show!
URL:https://greggodovitz.com/event/goddo-50th-anniversary-concert-keswick/
LOCATION:Stephen Leacock Theatre\, 130 Gwendolyn Blvd\, Keswick\, ON\, L4P 1Z3\, Canada
ATTACH;FMTTYPE=image/webp:https://greggodovitz.com/wp-content/uploads/Goddo-1.webp
END:VEVENT
END:VCALENDAR