BEGIN:VCALENDAR
VERSION:2.0
PRODID:-//Greg Godovitz - ECPv6.15.18//NONSGML v1.0//EN
CALSCALE:GREGORIAN
METHOD:PUBLISH
X-WR-CALNAME:Greg Godovitz
X-ORIGINAL-URL:https://greggodovitz.com
X-WR-CALDESC:Events for Greg Godovitz
REFRESH-INTERVAL;VALUE=DURATION:PT1H
X-Robots-Tag:noindex
X-PUBLISHED-TTL:PT1H
BEGIN:VTIMEZONE
TZID:America/Toronto
BEGIN:DAYLIGHT
TZOFFSETFROM:-0500
TZOFFSETTO:-0400
TZNAME:EDT
DTSTART:20240310T070000
END:DAYLIGHT
BEGIN:STANDARD
TZOFFSETFROM:-0400
TZOFFSETTO:-0500
TZNAME:EST
DTSTART:20241103T060000
END:STANDARD
BEGIN:DAYLIGHT
TZOFFSETFROM:-0500
TZOFFSETTO:-0400
TZNAME:EDT
DTSTART:20250309T070000
END:DAYLIGHT
BEGIN:STANDARD
TZOFFSETFROM:-0400
TZOFFSETTO:-0500
TZNAME:EST
DTSTART:20251102T060000
END:STANDARD
BEGIN:DAYLIGHT
TZOFFSETFROM:-0500
TZOFFSETTO:-0400
TZNAME:EDT
DTSTART:20260308T070000
END:DAYLIGHT
BEGIN:STANDARD
TZOFFSETFROM:-0400
TZOFFSETTO:-0500
TZNAME:EST
DTSTART:20261101T060000
END:STANDARD
END:VTIMEZONE
BEGIN:VEVENT
DTSTART;TZID=America/Toronto:20250628T150000
DTEND;TZID=America/Toronto:20250628T193000
DTSTAMP:20260425T111439
CREATED:20250308T191649Z
LAST-MODIFIED:20250308T191814Z
UID:718-1751122800-1751139000@greggodovitz.com
SUMMARY:GODDO 50th Anniversary Concert – Sterling
DESCRIPTION:DETAILS SOON
URL:https://greggodovitz.com/event/goddo-50th-anniversary-concert-sterling/
LOCATION:Stirling Festival Theatre\, 41 W Front St\, Stirling\, ON\, K0K 3E0\, Canada
ATTACH;FMTTYPE=image/webp:https://greggodovitz.com/wp-content/uploads/Goddo-1.webp
END:VEVENT
END:VCALENDAR