BEGIN:VCALENDAR
VERSION:2.0
PRODID:-//Greg Godovitz - ECPv6.15.18//NONSGML v1.0//EN
CALSCALE:GREGORIAN
METHOD:PUBLISH
X-ORIGINAL-URL:https://greggodovitz.com
X-WR-CALDESC:Events for Greg Godovitz
REFRESH-INTERVAL;VALUE=DURATION:PT1H
X-Robots-Tag:noindex
X-PUBLISHED-TTL:PT1H
BEGIN:VTIMEZONE
TZID:America/Toronto
BEGIN:DAYLIGHT
TZOFFSETFROM:-0500
TZOFFSETTO:-0400
TZNAME:EDT
DTSTART:20240310T070000
END:DAYLIGHT
BEGIN:STANDARD
TZOFFSETFROM:-0400
TZOFFSETTO:-0500
TZNAME:EST
DTSTART:20241103T060000
END:STANDARD
BEGIN:DAYLIGHT
TZOFFSETFROM:-0500
TZOFFSETTO:-0400
TZNAME:EDT
DTSTART:20250309T070000
END:DAYLIGHT
BEGIN:STANDARD
TZOFFSETFROM:-0400
TZOFFSETTO:-0500
TZNAME:EST
DTSTART:20251102T060000
END:STANDARD
BEGIN:DAYLIGHT
TZOFFSETFROM:-0500
TZOFFSETTO:-0400
TZNAME:EDT
DTSTART:20260308T070000
END:DAYLIGHT
BEGIN:STANDARD
TZOFFSETFROM:-0400
TZOFFSETTO:-0500
TZNAME:EST
DTSTART:20261101T060000
END:STANDARD
END:VTIMEZONE
BEGIN:VEVENT
DTSTART;TZID=America/Toronto:20250726T130000
DTEND;TZID=America/Toronto:20250726T200000
DTSTAMP:20260425T093314
CREATED:20250711T162242Z
LAST-MODIFIED:20250711T162242Z
UID:733-1753534800-1753560000@greggodovitz.com
SUMMARY:Twin Creeks Music Fest Presents GODDO
DESCRIPTION:  \n  \nThis  will be a live event at Twin Creeks!! It will be a full afternoon and evening of live music and more! Come and show your support for our friend Johnny Dawson and our annual fundraising event! \n\nJim & Judy Manolakos would like to give a warm welcome to our Emcee’s for this year… Dave Mercer from TV’s Facts of Fishing and Bass Master Event Emcee\, former NHL Goalie Glenn Healy\, and our dear friend and exceptional entertainer BRANK OH\n\n\nPlease visit our FAQ page!!!\n\n\n**VIP ticket options are available!\n\n\nIf cash is needed during the event… we can now allow you to TAP and withdraw cash via Debit/Interac/Visa! Please see Judy directly for details.\n\n\n**LINK to our Merch page here … https://twin-creeks-music-fest.square.site/\n**LINK to our Facebook Event page here … https://fb.me/2aZYxj81caI208C\n**DONATE here… durham-community-foundation | CharityProfile | Donate Online\n\nThank you all so much for your generous donations and support of our event!!! \n  \n\nCheck out our additional event page on Facebook at https://www.facebook.com/events/544384638618712/\n\n#JohnnyDawson #twincreeksmusicfest #JDMF #musicfund #fundraiser #giveback #DurhamRegion \nThanks for your support 🙏🙏 \nDonate Now!\nBe sure to scroll down the menu bar where it says apply your donation to a fund set up by this charity and click on The John Dawson Music Fund for the designation of your donation. All donations made via CanadaHelps\, offers you an instant charitable receipt for your donation.
URL:https://greggodovitz.com/event/twin-creeks-music-fest-presents-goddo/
LOCATION:Twin Peeks\, 5025 Sideline 8 Rd\, Claremont\, Ontario\, L1Y 1G3\, Canada
ATTACH;FMTTYPE=image/webp:https://greggodovitz.com/wp-content/uploads/GODDO-TWIN.webp
END:VEVENT
END:VCALENDAR