BEGIN:VCALENDAR
VERSION:2.0
PRODID:-//Greg Godovitz - ECPv6.15.18//NONSGML v1.0//EN
CALSCALE:GREGORIAN
METHOD:PUBLISH
X-WR-CALNAME:Greg Godovitz
X-ORIGINAL-URL:https://greggodovitz.com
X-WR-CALDESC:Events for Greg Godovitz
REFRESH-INTERVAL;VALUE=DURATION:PT1H
X-Robots-Tag:noindex
X-PUBLISHED-TTL:PT1H
BEGIN:VTIMEZONE
TZID:America/Toronto
BEGIN:DAYLIGHT
TZOFFSETFROM:-0500
TZOFFSETTO:-0400
TZNAME:EDT
DTSTART:20230312T070000
END:DAYLIGHT
BEGIN:STANDARD
TZOFFSETFROM:-0400
TZOFFSETTO:-0500
TZNAME:EST
DTSTART:20231105T060000
END:STANDARD
BEGIN:DAYLIGHT
TZOFFSETFROM:-0500
TZOFFSETTO:-0400
TZNAME:EDT
DTSTART:20240310T070000
END:DAYLIGHT
BEGIN:STANDARD
TZOFFSETFROM:-0400
TZOFFSETTO:-0500
TZNAME:EST
DTSTART:20241103T060000
END:STANDARD
BEGIN:DAYLIGHT
TZOFFSETFROM:-0500
TZOFFSETTO:-0400
TZNAME:EDT
DTSTART:20250309T070000
END:DAYLIGHT
BEGIN:STANDARD
TZOFFSETFROM:-0400
TZOFFSETTO:-0500
TZNAME:EST
DTSTART:20251102T060000
END:STANDARD
BEGIN:DAYLIGHT
TZOFFSETFROM:-0500
TZOFFSETTO:-0400
TZNAME:EDT
DTSTART:20260308T070000
END:DAYLIGHT
BEGIN:STANDARD
TZOFFSETFROM:-0400
TZOFFSETTO:-0500
TZNAME:EST
DTSTART:20261101T060000
END:STANDARD
END:VTIMEZONE
BEGIN:VEVENT
DTSTART;TZID=America/Toronto:20250328T150000
DTEND;TZID=America/Toronto:20250328T183000
DTSTAMP:20260425T122717
CREATED:20241217T223750Z
LAST-MODIFIED:20250306T220113Z
UID:687-1743174000-1743186600@greggodovitz.com
SUMMARY:GODDO 50th Anniversary Concert – Midland
DESCRIPTION:It’s official! The “Pretty Bad Boys” of Canadian rock\, GODDO\, are returning to “live” action for their 50th Anniversary! \nLed by its legendary founder\, singer/bassist Greg Godovitz\, the all-new GODDO consists of keyboardist Drew Winters\, guitarists Steve Jensen and Steve MacPherson\, and original GODDO drummer Marty Morin. \nThis re-energized rendition of GODDO delivers new life and spirit to their classic hits like “So Walk On”\, “Sweet Thing”\, “Tough Times”\, “Too Much Carousing”\, “O Carole (Kiss My Whip)”\, “Cock On”\, “Under My Hat”\, “Pretty Bad Boy” and much more! \nNote: All ticket sales are final. The Midland Cultural Centre has a no refund policy. \n\n\nLocation\nMidland Cultural Centre – Rotary Hall\, L4R3M7
URL:https://greggodovitz.com/event/goddo-50th-anniversary-concert-midland/
LOCATION:Midland Cultural Centre\, 333 King St.\, Midland\, Ontario\, L4R 3M7
ATTACH;FMTTYPE=image/webp:https://greggodovitz.com/wp-content/uploads/Goddo-1.webp
END:VEVENT
BEGIN:VEVENT
DTSTART;TZID=America/Toronto:20250118T140000
DTEND;TZID=America/Toronto:20250118T180000
DTSTAMP:20260425T122717
CREATED:20241217T222824Z
LAST-MODIFIED:20241217T222824Z
UID:685-1737208800-1737223200@greggodovitz.com
SUMMARY:GODDO 50th Anniversary Concert – Meaford
DESCRIPTION:Please note that the balcony level is ONLY accessible by stairs. \nSat. January 18 – 7:30 pm $70 \nIt’s official! The “Pretty Bad Boys” of Canadian rock\, GODDO\, are returning to “lighve” action for their 50th Anniversary! \nLed by its legendary founder\, singer/bassist Greg Godovitz\, the all-new GODDO consists of keyboardist Drew Winters\, guitarists Steve Jensen and Steve MacPherson\, and original GODDO drummer Marty Morin. \nThis re-energized rendition of GODDO delivers new life and spirit to their classic hits like “So Walk On”\, “Sweet Thing”\, “Tough Times”\, “Too Much Carousing”\, “O Carole (Kiss My Whip)”\, “Cock On”\, “Under My Hat”\, “Pretty Bad Boy” and much more!
URL:https://greggodovitz.com/event/goddo-50th-anniversary-concert-meaford/
LOCATION:Meaford Hall\, 12 Nelson Street East\, Meaford\, Ontario\, N4L 1N6
ATTACH;FMTTYPE=image/webp:https://greggodovitz.com/wp-content/uploads/Goddo-1.webp
END:VEVENT
BEGIN:VEVENT
DTSTART;TZID=America/Toronto:20241219T140000
DTEND;TZID=America/Toronto:20241219T180000
DTSTAMP:20260425T122717
CREATED:20241217T220429Z
LAST-MODIFIED:20241217T230008Z
UID:682-1734616800-1734631200@greggodovitz.com
SUMMARY:GODDO 50th Anniversary Concert - Toronto
DESCRIPTION:About the event\n\n\n\nJoin Greg Godovitz and GODDO for their 50th anniversary concert at the beautiful Redwood Theatre.  \nDoors open at 7pm\, show starts at 8pm. \n \nIt has been 50 years since GODDO formed in Toronto in the mid 1970s\, when they defined the rock sound of Toronto.  \nRead more about Greg and the history of this legendary band. The Redwood will be their only stop in Toronto\, and we are thrilled to be hosting such an historic event at the theatre.
URL:https://greggodovitz.com/event/goddo-50th-anniversary-concert-toronto/
LOCATION:Redwood Theatre\, 1300 Gerrard St E\, Toronto\, Ontario\, M4L 1Y7\, Canada
ATTACH;FMTTYPE=image/webp:https://greggodovitz.com/wp-content/uploads/Goddo-1.webp
END:VEVENT
BEGIN:VEVENT
DTSTART;TZID=America/Toronto:20241031T153000
DTEND;TZID=America/Toronto:20241031T190000
DTSTAMP:20260425T122717
CREATED:20241218T033202Z
LAST-MODIFIED:20241218T090112Z
UID:699-1730388600-1730401200@greggodovitz.com
SUMMARY:GODDO 50th Anniversary Concert – Oshawa
DESCRIPTION:Presented by Blackrose Entertainment in Association with CKDO 107.7 FM 1580 AM \nIt’s official! The “Pretty Bad Boys” of Canadian rock\, GODDO\, are returning to “lighve” action for their 50th Anniversary! \nLed by its legendary founder\, singer/bassist Greg Godovitz\, the all-new GODDO consists of keyboardist Drew Winters\, guitarists Steve Jensen and Steve MacPherson\, and original GODDO drummer Marty Morin. \nThis re-energized rendition of GODDO delivers new life and spirit to their classic hits like “So Walk On”\, “Sweet Thing”\, “Tough Times”\, “Too Much Carousing”\, “O Carole (Kiss My Whip)”\, “Cock On”\, “Under My Hat”\, “Pretty Bad Boy” and much more! \nFeaturing: Two for the Show!\nTwo For The Show has mastered the perfect night out for anyone-anywhere-anytime! Humour mixed with fabulous versions of pop-rock-reggae-dance-country-old-new\, you’ll hear it all! \nFREE MEET & GREET in Lobby after the show! \nRecommended Age:  14+\nAge Restriction:  7+
URL:https://greggodovitz.com/event/goddo-50th-anniversary-concert-oshawa/
LOCATION:Regent Theatre Oshawa\, 50 King Street E\, Oshawa\, Ontario\, L1H 1B3
ATTACH;FMTTYPE=image/webp:https://greggodovitz.com/wp-content/uploads/Goddo-1.webp
END:VEVENT
BEGIN:VEVENT
DTSTART;TZID=America/Toronto:20241023T153000
DTEND;TZID=America/Toronto:20241023T190000
DTSTAMP:20260425T122717
CREATED:20241218T032555Z
LAST-MODIFIED:20241218T032555Z
UID:697-1729697400-1729710000@greggodovitz.com
SUMMARY:GODDO 50th Anniversary Concert – Ajax
DESCRIPTION:GODDO (50TH AANNIVERSARY) Presented by THE EDGE LOUNGE (AJAX)\nGODDO (50TH AANNIVERSARY) will be at The Edge Lounge in Ajax\, ON on Wednesday\, October 23\, 2024.Doors Open at 2:00PM EDT\, and the Show Starts at 8:30PM EDT. GODDO (50TH AANNIVERSARY) includes GREG GODDOVITZ . The Edge Lounge is located at 250 Bayly Street West\, Ajax\, ON. \nCutoff is Wednesday\, October 23\, 2024 8:29 pm EDT unless it sells out earlier.
URL:https://greggodovitz.com/event/goddo-50th-anniversary-concert-ajax/
LOCATION:THE EDGE LOUNGE\, 250 Bayly St W\,\, Ajax\, ON\, L1S 3V4\, Canada
ATTACH;FMTTYPE=image/webp:https://greggodovitz.com/wp-content/uploads/Goddo-1.webp
END:VEVENT
END:VCALENDAR