BEGIN:VCALENDAR
VERSION:2.0
PRODID:-//Greg Godovitz - ECPv6.15.18//NONSGML v1.0//EN
CALSCALE:GREGORIAN
METHOD:PUBLISH
X-ORIGINAL-URL:https://greggodovitz.com
X-WR-CALDESC:Events for Greg Godovitz
REFRESH-INTERVAL;VALUE=DURATION:PT1H
X-Robots-Tag:noindex
X-PUBLISHED-TTL:PT1H
BEGIN:VTIMEZONE
TZID:America/Toronto
BEGIN:DAYLIGHT
TZOFFSETFROM:-0500
TZOFFSETTO:-0400
TZNAME:EDT
DTSTART:20230312T070000
END:DAYLIGHT
BEGIN:STANDARD
TZOFFSETFROM:-0400
TZOFFSETTO:-0500
TZNAME:EST
DTSTART:20231105T060000
END:STANDARD
BEGIN:DAYLIGHT
TZOFFSETFROM:-0500
TZOFFSETTO:-0400
TZNAME:EDT
DTSTART:20240310T070000
END:DAYLIGHT
BEGIN:STANDARD
TZOFFSETFROM:-0400
TZOFFSETTO:-0500
TZNAME:EST
DTSTART:20241103T060000
END:STANDARD
BEGIN:DAYLIGHT
TZOFFSETFROM:-0500
TZOFFSETTO:-0400
TZNAME:EDT
DTSTART:20250309T070000
END:DAYLIGHT
BEGIN:STANDARD
TZOFFSETFROM:-0400
TZOFFSETTO:-0500
TZNAME:EST
DTSTART:20251102T060000
END:STANDARD
END:VTIMEZONE
BEGIN:VEVENT
DTSTART;TZID=America/Toronto:20241219T140000
DTEND;TZID=America/Toronto:20241219T180000
DTSTAMP:20260425T192623
CREATED:20241217T220429Z
LAST-MODIFIED:20241217T230008Z
UID:682-1734616800-1734631200@greggodovitz.com
SUMMARY:GODDO 50th Anniversary Concert - Toronto
DESCRIPTION:About the event\n\n\n\nJoin Greg Godovitz and GODDO for their 50th anniversary concert at the beautiful Redwood Theatre.  \nDoors open at 7pm\, show starts at 8pm. \n \nIt has been 50 years since GODDO formed in Toronto in the mid 1970s\, when they defined the rock sound of Toronto.  \nRead more about Greg and the history of this legendary band. The Redwood will be their only stop in Toronto\, and we are thrilled to be hosting such an historic event at the theatre.
URL:https://greggodovitz.com/event/goddo-50th-anniversary-concert-toronto/
LOCATION:Redwood Theatre\, 1300 Gerrard St E\, Toronto\, Ontario\, M4L 1Y7\, Canada
ATTACH;FMTTYPE=image/webp:https://greggodovitz.com/wp-content/uploads/Goddo-1.webp
END:VEVENT
END:VCALENDAR