BEGIN:VCALENDAR
VERSION:2.0
PRODID:-//Greg Godovitz - ECPv6.15.18//NONSGML v1.0//EN
CALSCALE:GREGORIAN
METHOD:PUBLISH
X-ORIGINAL-URL:https://greggodovitz.com
X-WR-CALDESC:Events for Greg Godovitz
REFRESH-INTERVAL;VALUE=DURATION:PT1H
X-Robots-Tag:noindex
X-PUBLISHED-TTL:PT1H
BEGIN:VTIMEZONE
TZID:America/Toronto
BEGIN:DAYLIGHT
TZOFFSETFROM:-0500
TZOFFSETTO:-0400
TZNAME:EDT
DTSTART:20240310T070000
END:DAYLIGHT
BEGIN:STANDARD
TZOFFSETFROM:-0400
TZOFFSETTO:-0500
TZNAME:EST
DTSTART:20241103T060000
END:STANDARD
BEGIN:DAYLIGHT
TZOFFSETFROM:-0500
TZOFFSETTO:-0400
TZNAME:EDT
DTSTART:20250309T070000
END:DAYLIGHT
BEGIN:STANDARD
TZOFFSETFROM:-0400
TZOFFSETTO:-0500
TZNAME:EST
DTSTART:20251102T060000
END:STANDARD
BEGIN:DAYLIGHT
TZOFFSETFROM:-0500
TZOFFSETTO:-0400
TZNAME:EDT
DTSTART:20260308T070000
END:DAYLIGHT
BEGIN:STANDARD
TZOFFSETFROM:-0400
TZOFFSETTO:-0500
TZNAME:EST
DTSTART:20261101T060000
END:STANDARD
END:VTIMEZONE
BEGIN:VEVENT
DTSTART;TZID=America/Toronto:20250410T160000
DTEND;TZID=America/Toronto:20250410T190000
DTSTAMP:20260425T125743
CREATED:20241217T224413Z
LAST-MODIFIED:20241217T224724Z
UID:689-1744300800-1744311600@greggodovitz.com
SUMMARY:GODDO 50th Anniversary Concert – Barrie
DESCRIPTION:Goddo 50th Anniversary Who Cares\n\nThursday\, April 10\, 2025\n8:00 p.m. \n\n\n\n\n\nIt’s official! The “Pretty Bad Boys” of Canadian rock\, GODDO\, are returning to “lighve” action for their 50th Anniversary!\nLed by its legendary founder\, singer/bassist GREG GODOVITZ\, the all-new GODDO is now a powerfully dynamic 4-piece consisting of guitarists STEVE JENSEN and STEVE MACPHERSON\, and original GODDO drummer MARTY MORIN\nThis re-energized rendition of GODDO delivers new life and spirit to their classic hits like “So Walk On”\, “Sweet Thing”\, “Tough Times”\, “Too Much Carousing”\, “O Carole (Kiss My Whip)”\, “Cock On”\, “Under My Hat”\, “Pretty Bad Boy” and much more!\nNot only will it be a great show but Blackrose Entertainment is paying for your parking\, who says you can get nothing for free!\nFREE MEET & GREET in Lobby after!
URL:https://greggodovitz.com/event/goddo-50th-anniversary-concert-barrie/
LOCATION:Georgian Theatre Barrie\, 1 Georgian Dr Bldg C\, Barrie\, Ontario\, L4M 6J8
ATTACH;FMTTYPE=image/webp:https://greggodovitz.com/wp-content/uploads/Goddo-1.webp
END:VEVENT
BEGIN:VEVENT
DTSTART;TZID=America/Toronto:20250425T150000
DTEND;TZID=America/Toronto:20250425T193000
DTSTAMP:20260425T125743
CREATED:20250321T003047Z
LAST-MODIFIED:20250321T003234Z
UID:725-1745593200-1745609400@greggodovitz.com
SUMMARY:GODDO 50th Anniversary Concert – Toronto
DESCRIPTION:GODDO Live at the Redwood\n\nFri\, Apr 25 \n |  \nThe Redwood Theatre \n\n\nBack by popular demand\, Toronto rock n roll legends Goddo return to the Redwood Theatre for an intimate concert. Reserved seating available for this show. Doors open at 7pm\, show starts at 8pm. This is part of the 50th Anniversary tour! \n\nTime & Location\n\n\nApr 25\, 2025\, 7:00 p.m. – 11:00 p.m. \nThe Redwood Theatre\, 1300 Gerrard St E\, Toronto\, ON M4L 1Y7\, Canada \n\n\n\n\nAbout the event\n\n\n\nTaking rock shows to a higher level with the legendary Goddo\, live on stage at the Redwood. This is a seated event with reserved tables or general admission seating available.  \n \nClassic Rock deserves a classic experience. This is the show to set the level for future rock shows! \nIntimate\, spend time with the band\, with your friends\, and enjoy a very special evening in comfort at the Redwood with Goddo! \n \n\n\n\n  \n\n\n\nTickets\n\n\n\n\n\n\nTicket type \n\nGeneral Admission Seating\n\n\n\n\nMore info \n\n\n\n\n\n\n\n\n\n\n\n\nPrice \nCA$60.00\n\n\n+CA$7.80 HST \nTax: +CA$7.80 HST \n+CA$1.70 ticket service fee \n+CA$1.70 ticket service fee \n\n\n\n\n\n\n\n\n\n\n\n\n\n\nTicket type \n\nReserved Seating\n\n\n\n\nMore info \n\n\n\n\n\n\n\n\n\n\n\n\nPrice \nCA$80.00\n\n\n+CA$10.40 HST \nTax: +CA$10.40 HST \n+CA$2.26 ticket service fee \n+CA$2.26 ticket service fee \n\n\n\n\n\n\n\n\n\n\n\n\n\n\nTicket type \n\nReserved Lounge\n\n\n\n\nMore info \n\n\n\n\n\n\n\n\n\n\n\n\nPrice \nCA$100.00\n\n\n+CA$13.00 HST \nTax: +CA$13.00 HST \n+CA$2.83 ticket service fee \n+CA$2.83 ticket service fee \n\n\n\n\n\n\n\n\n\n\n\n\n\n\nTicket type \n\nGeneral Admission\n\n\n\n\nMore info \n\n\n\n\n\n\n\n\n\n\n\n\nPrice \nCA$40.00\n\n\n+CA$5.20 HST \nTax: +CA$5.20 HST \n+CA$1.13 ticket service fee
URL:https://greggodovitz.com/event/goddo-50th-anniversary-concert-toronto-2/
LOCATION:The Redwood Theatre\, 1300 Gerrard St E.\, Toronto\, ON\, M4L 1Y7\, Canada
ATTACH;FMTTYPE=image/webp:https://greggodovitz.com/wp-content/uploads/Goddo-1.webp
END:VEVENT
END:VCALENDAR